BEGIN:VCALENDAR
VERSION:2.0
PRODID:-//Bibliothek Adendorf - ECPv6.15.20//NONSGML v1.0//EN
CALSCALE:GREGORIAN
METHOD:PUBLISH
X-ORIGINAL-URL:https://bibliothek-adendorf.de
X-WR-CALDESC:Veranstaltungen für Bibliothek Adendorf
REFRESH-INTERVAL;VALUE=DURATION:PT1H
X-Robots-Tag:noindex
X-PUBLISHED-TTL:PT1H
BEGIN:VTIMEZONE
TZID:UTC
BEGIN:STANDARD
TZOFFSETFROM:+0000
TZOFFSETTO:+0000
TZNAME:UTC
DTSTART:20250101T000000
END:STANDARD
END:VTIMEZONE
BEGIN:VEVENT
DTSTART;TZID=UTC:20260323T103000
DTEND;TZID=UTC:20260323T120000
DTSTAMP:20260419T152837
CREATED:20260305T141443Z
LAST-MODIFIED:20260305T141443Z
UID:20045-1774261800-1774267200@bibliothek-adendorf.de
SUMMARY:Bibliyoga
DESCRIPTION:Eingeladen sind Menschen mit Grundkenntnissen\, praktizieren wollen wir Yoga zur Entspannung. Die Basis bildet das Sivananda-Yoga mit Einflüssen auch aus anderen Richtungen. Benötigt werden eine Matte\, eine Decke sowie etwas zu trinken\, auch empfehlen wir\, bequeme Kleidung zu tragen.
URL:https://bibliothek-adendorf.de/event/bibliyoga-13/
LOCATION:Bibliothek Adendorf
END:VEVENT
END:VCALENDAR