BEGIN:VCALENDAR
VERSION:2.0
PRODID:-//Bibliothek Adendorf - ECPv6.15.20//NONSGML v1.0//EN
CALSCALE:GREGORIAN
METHOD:PUBLISH
X-WR-CALNAME:Bibliothek Adendorf
X-ORIGINAL-URL:https://bibliothek-adendorf.de
X-WR-CALDESC:Veranstaltungen für Bibliothek Adendorf
REFRESH-INTERVAL;VALUE=DURATION:PT1H
X-Robots-Tag:noindex
X-PUBLISHED-TTL:PT1H
BEGIN:VTIMEZONE
TZID:UTC
BEGIN:STANDARD
TZOFFSETFROM:+0000
TZOFFSETTO:+0000
TZNAME:UTC
DTSTART:20250101T000000
END:STANDARD
END:VTIMEZONE
BEGIN:VEVENT
DTSTART;TZID=UTC:20260325T163000
DTEND;TZID=UTC:20260325T173000
DTSTAMP:20260421T102124
CREATED:20260305T131512Z
LAST-MODIFIED:20260305T131512Z
UID:20023-1774456200-1774459800@bibliothek-adendorf.de
SUMMARY:Handy- und Internetsprechstunde
DESCRIPTION:Welches Handy passt zu mir? Wo bekomme ich eine SIM-Karte? Wie installiere ich eine App? Wie nutze ich KI auf meinem Smartphone? Wie kann ich Telefonnummern sperren?\nMit diesen und anderen Frage rund um Smartphone\, Tablet und Co. kommt einfach zu Tjark Fabienke in die Sprechstunde in Eure Bibliothek Adendorf.
URL:https://bibliothek-adendorf.de/event/handy-und-internetsprechstunde-2/
LOCATION:Bibliothek Adendorf
END:VEVENT
END:VCALENDAR